BEGIN:VCALENDAR
VERSION:2.0
PRODID:-//Waldhaus K&ouml;ttmannsdorf - ECPv6.15.20//NONSGML v1.0//EN
CALSCALE:GREGORIAN
METHOD:PUBLISH
X-ORIGINAL-URL:https://ebrachtaler-waldhaus.de
X-WR-CALDESC:Veranstaltungen für Waldhaus K&ouml;ttmannsdorf
REFRESH-INTERVAL;VALUE=DURATION:PT1H
X-Robots-Tag:noindex
X-PUBLISHED-TTL:PT1H
BEGIN:VTIMEZONE
TZID:UTC
BEGIN:STANDARD
TZOFFSETFROM:+0000
TZOFFSETTO:+0000
TZNAME:UTC
DTSTART:20230101T000000
END:STANDARD
END:VTIMEZONE
BEGIN:VEVENT
DTSTART;TZID=UTC:20241021T170000
DTEND;TZID=UTC:20241021T233000
DTSTAMP:20260421T105520
CREATED:20241012T201222Z
LAST-MODIFIED:20241012T201605Z
UID:290-1729530000-1729553400@ebrachtaler-waldhaus.de
SUMMARY:Bockbieranstich
DESCRIPTION:
URL:https://ebrachtaler-waldhaus.de/event/bockbieranstich/
ATTACH;FMTTYPE=image/jpeg:https://ebrachtaler-waldhaus.de/wp-content/uploads/2024/10/WhatsApp-Bild-2024-10-10-um-13.27.45_43a22b5b.jpg
END:VEVENT
BEGIN:VEVENT
DTSTART;TZID=UTC:20241031T190000
DTEND;TZID=UTC:20241031T190000
DTSTAMP:20260421T105520
CREATED:20240911T191857Z
LAST-MODIFIED:20241012T201539Z
UID:56-1730401200-1730401200@ebrachtaler-waldhaus.de
SUMMARY:Halloween Party
DESCRIPTION:
URL:https://ebrachtaler-waldhaus.de/event/halloween-party/
ATTACH;FMTTYPE=image/jpeg:https://ebrachtaler-waldhaus.de/wp-content/uploads/2024/09/WhatsApp-Bild-2024-09-11-um-21.05.58_82dcd5e4.jpg
END:VEVENT
END:VCALENDAR